BEGIN:VCALENDAR
VERSION:2.0
METHOD:PUBLISH
BEGIN:VEVENT
UID:WILD_APRICOT_EVENT_2599227_SESSION_1
DTSTART:20170819T030000Z
DTEND:20170820T030000Z
SUMMARY:Ultrassom em Emergências e Trauma - São José do Rio Preto\, SP\, Brasil
LOCATION:São José do Rio Preto\, SP\, Brasil
DESCRIPTION:https://panamtrauma.org/event-2599227\n\nPara mais informações\, visite: http://www.cursosbait.com.br/#\n \n\n  \n\n
DTSTAMP:20260424T103339Z
END:VEVENT
END:VCALENDAR
