BEGIN:VCALENDAR
VERSION:2.0
METHOD:PUBLISH
BEGIN:VEVENT
UID:WILD_APRICOT_EVENT_2592418_SESSION_1
DTSTART:20170901T040000Z
DTEND:20170902T040000Z
SUMMARY:Enfermería en Trauma - Montevideo\, Uruguay
LOCATION:Montevideo\, Uruguay
DESCRIPTION:https://panamtrauma.org/event-2592418\n\nEl curso se impartirá en el Centro de Capacitación SUAT\n  Para más información\, por favor\, contacte al director del curso:\n\n  Lic. María Acosta - Marita.acosta.fernandez@gmail.com \n\n
DTSTAMP:20260424T123502Z
END:VEVENT
END:VCALENDAR
