BEGIN:VCALENDAR
VERSION:2.0
METHOD:PUBLISH
BEGIN:VEVENT
UID:WILD_APRICOT_EVENT_2576655_SESSION_1
DTSTART:20170902T030000Z
DTEND:20170903T030000Z
SUMMARY:Ultrassom em Emergências e Trauma - Manaus\, AM\, Brasil
LOCATION:Manaus\, AM\, Brasil
DESCRIPTION:https://panamtrauma.org/event-2576655\n\nPara mais informações\, visite: http://www.cursosbait.com.br/#\n \n\n  \n\n
DTSTAMP:20260424T103330Z
END:VEVENT
END:VCALENDAR
