BEGIN:VCALENDAR
VERSION:2.0
METHOD:PUBLISH
BEGIN:VEVENT
UID:WILD_APRICOT_EVENT_2576637_SESSION_1
DTSTART:20170805T030000Z
DTEND:20170806T030000Z
SUMMARY:Ultrassom em Emergências e Trauma - Criciúma\, SC\, Brasil
LOCATION:Criciúma\, SC\, Brasil
DESCRIPTION:https://panamtrauma.org/event-2576637\n\nPara mais informações\, visite: http://www.cursosbait.com.br/#\n \n\n  \n\n
DTSTAMP:20260424T103444Z
END:VEVENT
END:VCALENDAR
