BEGIN:VCALENDAR
VERSION:2.0
METHOD:PUBLISH
BEGIN:VEVENT
UID:WILD_APRICOT_EVENT_2575355_SESSION_1
DTSTART:20180109T050000Z
DTEND:20180114T050000Z
SUMMARY:31st EAST Annual Scientific Assembly
LOCATION:Lake Buena Vista\, FL\, USA
DESCRIPTION:https://panamtrauma.org/event-2575355\n\n   January 9–13\, 2018      Disney's Contemporary Resort\n   Lake Buena Vista\, FL\n   \n   For more information\, visit:\n   http://www.east.org/about/news-and-events/events/detail/218/31st-east-annual-scientific-assembly\n  
DTSTAMP:20260424T103106Z
END:VEVENT
END:VCALENDAR
