BEGIN:VCALENDAR
VERSION:2.0
METHOD:PUBLISH
BEGIN:VEVENT
UID:WILD_APRICOT_EVENT_2575354_SESSION_1
DTSTART:20171123T050000Z
DTEND:20171125T050000Z
SUMMARY:1st Cape Town Trauma Conference
LOCATION:Cape Town\, South Africa
DESCRIPTION:https://panamtrauma.org/event-2575354\n\n   November 23\, 24\, 2017\; Vineyard Hotel\; Cape town\, South Africa - For more information\, visit:      http://www.cttc2017.co.za/\n      \n  
DTSTAMP:20260424T103244Z
END:VEVENT
END:VCALENDAR
