BEGIN:VCALENDAR
VERSION:2.0
METHOD:PUBLISH
BEGIN:VEVENT
UID:WILD_APRICOT_EVENT_2575352_SESSION_1
DTSTART:20170915T040000Z
DTEND:20170917T040000Z
SUMMARY:Congreso de Medicina y Cirugía de Trauma 2017
LOCATION:Buenos Aires\, Argentina
DESCRIPTION:https://panamtrauma.org/event-2575352\n\n   September 15\, 16\, 2017\; Universidad Maimónides\; Buenos Aires\, Argentina      \n   For more information visit | Para mas información visite:\n   http://congresosamct.org.ar/\n  
DTSTAMP:20260424T103221Z
END:VEVENT
END:VCALENDAR
