BEGIN:VCALENDAR
VERSION:2.0
METHOD:PUBLISH
BEGIN:VEVENT
UID:WILD_APRICOT_EVENT_2575347_SESSION_1
DTSTART:20170913T040000Z
DTEND:20170917T040000Z
SUMMARY:76th Annual Meeting AAST and Clinical Congress of Acute Care Surgery
LOCATION:Baltimore\, MD\, USA
DESCRIPTION:https://panamtrauma.org/event-2575347\n\nSeptember 13–16\, 2017\n Baltimore Marriott Waterfront\n Baltimore\, MD\, USA\nFor more information\, visit\n http://www.aast.org/Meetings/AnnualMeeting/Default.aspx  \n\n\n
DTSTAMP:20260424T103211Z
END:VEVENT
END:VCALENDAR
