BEGIN:VCALENDAR
VERSION:2.0
METHOD:PUBLISH
BEGIN:VEVENT
UID:WILD_APRICOT_EVENT_2568316_SESSION_1
DTSTART:20170817T030000Z
DTEND:20170818T030000Z
SUMMARY:Ultrasonido en Emergencias y Trauma - Buenos Aires\, Argentina
LOCATION:Capital Federal\, Buenos Aires\, Argentina
DESCRIPTION:https://panamtrauma.org/event-2568316\n\nEl curso se impartirá en Fundación Trauma.\n  Para inscribirse:  http://www.samct.org.ar/index.php/events/curso-uset-3/\nPara más información\, por favor\, contacte a :  Secretaria@samct.org.ar  http://www.samct.org.ar/index.php/pagina-ejemplo/cursos/uset/\n  \n\n
DTSTAMP:20260424T123348Z
END:VEVENT
END:VCALENDAR
