BEGIN:VCALENDAR
VERSION:2.0
METHOD:PUBLISH
BEGIN:VEVENT
UID:WILD_APRICOT_EVENT_2568305_SESSION_1
DTSTART:20170720T030000Z
DTEND:20170721T030000Z
SUMMARY:Ultrasonido en Emergencias y Trauma - Buenos Aires\, Argentina
LOCATION:Capital Federal\, Buenos Aires\, Argentina
DESCRIPTION:https://panamtrauma.org/event-2568305\n\nEl curso se impartirá en Fundación Trauma\, Tacuarí 352\, CABA.\n  Para más información\, por favor\, contacte a la coordinadora local del curso:  Noelia  - Secretaria@samct.org.ar\n  http://www.samct.org.ar/index.php/pagina-ejemplo/cursos/uset/\n\n
DTSTAMP:20260424T123640Z
END:VEVENT
END:VCALENDAR
