BEGIN:VCALENDAR
VERSION:2.0
METHOD:PUBLISH
BEGIN:VEVENT
UID:WILD_APRICOT_EVENT_2567132_SESSION_1
DTSTART:20170407T030000Z
DTEND:20170408T030000Z
SUMMARY:Ultrassom em Emergências e Trauma - RS\, Brasil
LOCATION:Porto Alegre (RS)\, Brasil
DESCRIPTION:https://panamtrauma.org/event-2567132\n\nFoi realizado no dia 07 de abril de 2017 mais uma edição do Curso de Ultrassom em Emergência e Trauma (USET).\n  O curso\, organizado pela SBAIT em parceria com a Sociedade Panamericana de Trauma ocorreu no Centro de Ensino e Treinamento em Saúde (CETS) em Porto Alegre reunindo 20 alunos de cidades dos Estados do Rio Grande do Sul\, Santa Catarina e Rio de Janeiro.\n  Esta edição contou com a participação dos instrutores José Cruvinel (SP)\, Luciano Eifler (RS) e Ricardo Bregeiron (RS)\n  \n\n
DTSTAMP:20260424T110308Z
END:VEVENT
END:VCALENDAR
