BEGIN:VCALENDAR
VERSION:2.0
METHOD:PUBLISH
BEGIN:VEVENT
UID:WILD_APRICOT_EVENT_2556025_SESSION_1
DTSTART:20170427T040000Z
DTEND:20170429T040000Z
SUMMARY:Mejoramiento de la Calidad en Trauma (QI) - Buenos Aires\, Argentina
LOCATION:Municipio de Pilar\, Buenos Aires\, Argentina
DESCRIPTION:https://panamtrauma.org/event-2556025\n\nFUNDACION TRAUMA\n Curso - Mejoramiento de la Calidad en Trauma (QI)\n 8 participantes\n \n\n     FUNDACION TRAUMA\n   Curso - Mejoramiento de la Calidad en Trauma (QI)\n   8 participantes\n   5 Administrativos -$20 x 5 = $100.00\n   3 Médicos - $50x3 = $150.00\n    $250 + 4% CC ($10.00)\n    $260.00\n 
DTSTAMP:20260424T105732Z
END:VEVENT
END:VCALENDAR
