BEGIN:VCALENDAR
VERSION:2.0
METHOD:PUBLISH
BEGIN:VEVENT
UID:WILD_APRICOT_EVENT_2553762_SESSION_1
DTSTART:20171127T050000Z
DTEND:20171129T050000Z
SUMMARY:Curso Esencial de Trauma (ETC) - DF\, Mexico
LOCATION:Ciudad de Mexico
DESCRIPTION:https://panamtrauma.org/event-2553762\n\nEl curso se impartirá durante el 30 Congreso Panamericana de Trauma\, Cuidados Criticos y Cirugia de Emergencia\, que se celebrará del 29 de noviembre - 1 de diciembre\, 2017.\n  Para más información y para inscribirse en el curso\, por favor visite al siguiente enlace:\n http://www.panamericantraumacongress.com/cursos-pre-congreso/\n\n  \n\n  \n\n
DTSTAMP:20260424T103414Z
END:VEVENT
END:VCALENDAR
