BEGIN:VCALENDAR
VERSION:2.0
METHOD:PUBLISH
BEGIN:VEVENT
UID:WILD_APRICOT_EVENT_2550844_SESSION_1
DTSTART:20170504T040000Z
DTEND:20170505T040000Z
SUMMARY:Resposta Médica Avançada À Desastres - SP\, Brasil
LOCATION:São José do Rio Preto\, São Paulo
DESCRIPTION:https://panamtrauma.org/event-2550844\n\nInstrutores: Dr Elcio Hirano\, Dr Antonio Onimaru e Dra Josiene Germano.  \n\n8 alunos
DTSTAMP:20260424T105539Z
END:VEVENT
END:VCALENDAR
