BEGIN:VCALENDAR
VERSION:2.0
METHOD:PUBLISH
BEGIN:VEVENT
UID:WILD_APRICOT_EVENT_2527795_SESSION_1
DTSTART:20170708T030000Z
DTEND:20170709T030000Z
SUMMARY:Ultrassom em Emergências e Trauma - SP\, Brasil
LOCATION:São José do Rio Preto\, São Paulo\, Brasil
DESCRIPTION:https://panamtrauma.org/event-2527795\n\nPara mais informações\, visite: http://www.cursosbait.com.br/#\n \n\n  \n\n
DTSTAMP:20260424T124801Z
END:VEVENT
END:VCALENDAR
