BEGIN:VCALENDAR
VERSION:2.0
METHOD:PUBLISH
BEGIN:VEVENT
UID:WILD_APRICOT_EVENT_2527788_SESSION_1
DTSTART:20170624T030000Z
DTEND:20170625T030000Z
SUMMARY:Ultrassom em Emergências e Trauma - SP\, Brasil
LOCATION:São Paulo\, São Paulo
DESCRIPTION:https://panamtrauma.org/event-2527788\n\nPara mais informações\, visite: http://www.cursosbait.com.br/#\n \n\n  \n\n
DTSTAMP:20260424T105053Z
END:VEVENT
END:VCALENDAR
