BEGIN:VCALENDAR
VERSION:2.0
METHOD:PUBLISH
BEGIN:VEVENT
UID:WILD_APRICOT_EVENT_2527782_SESSION_1
DTSTART:20170603T030000Z
DTEND:20170604T030000Z
SUMMARY:Ultrassom em Emergências e Trauma - SP\, Brasil
LOCATION:São José do Rio Preto\, São Paulo
DESCRIPTION:https://panamtrauma.org/event-2527782\n\nPara mais informações\, visite: http://www.cursosbait.com.br/#\n \n\n  \n\n
DTSTAMP:20260424T110259Z
END:VEVENT
END:VCALENDAR
