BEGIN:VCALENDAR
VERSION:2.0
METHOD:PUBLISH
BEGIN:VEVENT
UID:WILD_APRICOT_EVENT_2527772_SESSION_1
DTSTART:20170513T030000Z
DTEND:20170514T030000Z
SUMMARY:Ultrassom em Emergências e Trauma - SP\, Brasil
LOCATION:Santo André\, São Paulo
DESCRIPTION:https://panamtrauma.org/event-2527772\n\nMais uma edição do Curso Ultrassom em Emergência e Trauma foi realizada\, dessa vez na cidade de Santo Andre (SP)\, na Santa Casa de Santo André\, um dos hospitais de ensino da Faculdade de Medicina do ABC.\n  O curso contou com 12 inscritos e foi uma idealização do Dr Carlos Corsi e Dr Alexandre Zanchenko. Esse é o início de um projeto de capacitação dos profissionais do hospital que contou inclusive com a aquisição de um equipamento de ultrassonografias portátil pra iniciar as técnicas nos pacientes atendidos pela equipe.\n  Os instrutores foram José Cruvinel\, Stephanie Santin e Alexandre Zanchenko.\n  \n\n  \n\n
DTSTAMP:20260424T104859Z
END:VEVENT
END:VCALENDAR
