BEGIN:VCALENDAR
VERSION:2.0
METHOD:PUBLISH
BEGIN:VEVENT
UID:WILD_APRICOT_EVENT_2527769_SESSION_1
DTSTART:20170506T030000Z
DTEND:20170507T030000Z
SUMMARY:Ultrassom em Emergências e Trauma - Paraná\, Brasil
LOCATION:Cascavel\, Paraná
DESCRIPTION:https://panamtrauma.org/event-2527769\n\nO curso reuniu 12 inscritos e quatro instrutores: Dr José Cruvinel Neto\, Dr Fernando Spencer\, Dr Diego Oliveira e Dr Thiago Giancursi \, contando com organização local de Dr Fernando Spencer.\n  \n\n
DTSTAMP:20260424T105000Z
END:VEVENT
END:VCALENDAR
