BEGIN:VCALENDAR
VERSION:2.0
METHOD:PUBLISH
BEGIN:VEVENT
UID:WILD_APRICOT_EVENT_2527760_SESSION_1
DTSTART:20170504T030000Z
DTEND:20170505T030000Z
SUMMARY:Ultrassom em Emergências e Trauma - DF\, Brasilia\, Brasil
LOCATION:Distrito Federal - Brasilia
DESCRIPTION:https://panamtrauma.org/event-2527760\n\nFoi realizado no dia 04 de maio mais uma edição do Curso Ultrassom em Emergência e Trauma (USET)\, como curso pré-congresso do I Congresso de Emergência Adulto e Pediátrica do Capítulo DF da ABRAMEDE.\n  O curso reuniu 15 inscritos e teve como  instrutores\, Dr José Cruvinel Neto e Dr Rodrigo Caselli\, e foi parceria entre a SBAIT e a ABRAMEDE ( Associação Brasileira de Medicina de Emergência) estabelecida através do Dr Rodigo Caselli (SBAIT) e do Dr Flavio Bastos\, diretor da ABRAMEDE -DF\n  \n\n
DTSTAMP:20260424T105943Z
END:VEVENT
END:VCALENDAR
