BEGIN:VCALENDAR
VERSION:2.0
METHOD:PUBLISH
BEGIN:VEVENT
UID:WILD_APRICOT_EVENT_2517739_SESSION_1
DTSTART:20170316T040000Z
DTEND:20170318T040000Z
SUMMARY:Mejoramiento de la Calidad en Trauma (QI) - Buenos Aires\, Argentina
LOCATION:Del Viso\, Municipio de Pilar\, Buenos Aires\, Argentina
DESCRIPTION:https://panamtrauma.org/event-2517739\n\nFUNDACION TRAUMA\n Curso - Mejoramiento de la Calidad en Trauma (QI)\n 5 participantes\n \n\n  \n\n
DTSTAMP:20260424T110123Z
END:VEVENT
END:VCALENDAR
