BEGIN:VCALENDAR
VERSION:2.0
METHOD:PUBLISH
BEGIN:VEVENT
UID:WILD_APRICOT_EVENT_2473226_SESSION_1
DTSTART:20170523T040000Z
DTEND:20170524T040000Z
SUMMARY:Respuesta Médica Avanzada a Desastres - Santa Clara\, Cuba
LOCATION:Santa Clara\, Cuba
DESCRIPTION:https://panamtrauma.org/event-2473226\n\nEl curso se impartirá durante el IV Simposio Internacional de Trauma/II Taller de Cirugía de Emergencia\, que se celebrará del 22-26 de mayo\, 2017.\n  Para más información\, por favor\, contacte a la directora del curso:\n  Profesora:  Susan Briggs\, MD - Briggs.Susan@mgh.harvard.edu\n\n  \n\n
DTSTAMP:20260424T110043Z
END:VEVENT
END:VCALENDAR
