BEGIN:VCALENDAR
VERSION:2.0
METHOD:PUBLISH
BEGIN:VEVENT
UID:WILD_APRICOT_EVENT_2469026_SESSION_1
DTSTART:20170318T030000Z
DTEND:20170319T030000Z
SUMMARY:Ultrassom em Emergências e Trauma - SP\, Brasil
LOCATION:São Paulo\, Brasil
DESCRIPTION:https://panamtrauma.org/event-2469026\n\nPara mais informações\, visite: http://www.cursosbait.com.br/#\n \n\n  \n\n
DTSTAMP:20260424T105619Z
END:VEVENT
END:VCALENDAR
