BEGIN:VCALENDAR
VERSION:2.0
METHOD:PUBLISH
BEGIN:VEVENT
UID:WILD_APRICOT_EVENT_2458111_SESSION_1
DTSTART:20170523T040000Z
DTEND:20170524T040000Z
SUMMARY:Ultrasonido en Emergencias y Trauma - Santa Clara\, Cuba
LOCATION:Santa Clara\, Cuba
DESCRIPTION:https://panamtrauma.org/event-2458111\n\nEl curso se impartirá durante el IV Simposio Internacional de Trauma/II Taller de Cirugía de Emergencia\, que se celebrará del 22-26 de mayo\, 2017.\n  Para más información\, por favor\, contacte al director del curso:  Dr. Marc DeMoya - Mdemoya@mgh.harvard.edu\n  \n\n
DTSTAMP:20260424T124222Z
END:VEVENT
END:VCALENDAR
