BEGIN:VCALENDAR
VERSION:2.0
METHOD:PUBLISH
BEGIN:VEVENT
UID:WILD_APRICOT_EVENT_2458099_SESSION_1
DTSTART:20170522T040000Z
DTEND:20170523T040000Z
SUMMARY:Enfermería en Trauma - Santa Clara\, Cuba
LOCATION:Santa Clara\, Cuba
DESCRIPTION:https://panamtrauma.org/event-2458099\n\nEl curso se impartirá durante el IV Simposio Internacional de Trauma/II Taller de Cirugía de Emergencia\, que se celebrará del 22-26 de mayo\, 2017.\n  Para más información\, por favor\, contacte al director del curso:\n\n  Lic. Gaspar Reboredo - reboredogaspar@gmail.com \n\n
DTSTAMP:20260424T124003Z
END:VEVENT
END:VCALENDAR
