BEGIN:VCALENDAR
VERSION:2.0
METHOD:PUBLISH
BEGIN:VEVENT
UID:WILD_APRICOT_EVENT_2457937_SESSION_1
DTSTART:20170328T040000Z
DTEND:20170329T040000Z
SUMMARY:Trauma Nursing Course (English & Spanish) - NJ\, USA
LOCATION:Rutgers School of Nursing in Newark\, New Jersey
DESCRIPTION:https://panamtrauma.org/event-2457937\n\nCourse provided as part of a week-long workshop\; "TRAUMA NURSING SYMPOSIUM - Trauma Nursing Specialty\, Leadership and Education"\nhttp://nursing.rutgers.edu/trauma-nursing/\n  FOR MORE INFORMATION:\nSol A. Muniz\, MSN\, RN | 703-656-3940 | sam637@sn.rutgers.edu\nAllissa Gerdes\, MPH | 732-235-4959 | allissa.gerdes@rutgers.edu\n\n
DTSTAMP:20260424T105547Z
END:VEVENT
END:VCALENDAR
