BEGIN:VCALENDAR
VERSION:2.0
METHOD:PUBLISH
BEGIN:VEVENT
UID:WILD_APRICOT_EVENT_2439750_SESSION_1
DTSTART:20171129T050000Z
DTEND:20171202T050000Z
SUMMARY:30th  Panamerican Congress of Trauma\, Critical Care and Emergency Surgery
LOCATION:Mexico City\, Mexico
DESCRIPTION:https://panamtrauma.org/event-2439750\n\n30th  Panamerican Congress of Trauma\, Critical Care and Emergency Surgery in conjunction with Asociación Mexicana de Cirugía General and Colegio Mexicano de Cirujanos Militares \n \n\n  \n\n
DTSTAMP:20260424T122443Z
END:VEVENT
END:VCALENDAR
